BEGIN:VCALENDAR
VERSION:2.0
PRODID:-//The Book Cellar - ECPv6.15.20//NONSGML v1.0//EN
CALSCALE:GREGORIAN
METHOD:PUBLISH
X-ORIGINAL-URL:https://thebookcellarva.com
X-WR-CALDESC:Events for The Book Cellar
REFRESH-INTERVAL;VALUE=DURATION:PT1H
X-Robots-Tag:noindex
X-PUBLISHED-TTL:PT1H
BEGIN:VTIMEZONE
TZID:America/New_York
BEGIN:DAYLIGHT
TZOFFSETFROM:-0500
TZOFFSETTO:-0400
TZNAME:EDT
DTSTART:20240310T070000
END:DAYLIGHT
BEGIN:STANDARD
TZOFFSETFROM:-0400
TZOFFSETTO:-0500
TZNAME:EST
DTSTART:20241103T060000
END:STANDARD
BEGIN:DAYLIGHT
TZOFFSETFROM:-0500
TZOFFSETTO:-0400
TZNAME:EDT
DTSTART:20250309T070000
END:DAYLIGHT
BEGIN:STANDARD
TZOFFSETFROM:-0400
TZOFFSETTO:-0500
TZNAME:EST
DTSTART:20251102T060000
END:STANDARD
BEGIN:DAYLIGHT
TZOFFSETFROM:-0500
TZOFFSETTO:-0400
TZNAME:EDT
DTSTART:20260308T070000
END:DAYLIGHT
BEGIN:STANDARD
TZOFFSETFROM:-0400
TZOFFSETTO:-0500
TZNAME:EST
DTSTART:20261101T060000
END:STANDARD
BEGIN:DAYLIGHT
TZOFFSETFROM:-0500
TZOFFSETTO:-0400
TZNAME:EDT
DTSTART:20270314T070000
END:DAYLIGHT
BEGIN:STANDARD
TZOFFSETFROM:-0400
TZOFFSETTO:-0500
TZNAME:EST
DTSTART:20271107T060000
END:STANDARD
END:VTIMEZONE
BEGIN:VEVENT
DTSTART;TZID=America/New_York:20260411T180000
DTEND;TZID=America/New_York:20260411T210000
DTSTAMP:20260424T044032
CREATED:20260221T171337Z
LAST-MODIFIED:20260221T171457Z
UID:1415-1775930400-1775941200@thebookcellarva.com
SUMMARY:Adult Book Fair
DESCRIPTION:The Adult Book Fair is BACK on Saturday\, April 11\, 2026. We’re bringing back all the nostalgia of your elementary school days\, but with two major upgrades: You have “adult money” now\, and our friends have a bar. \n\n\n80s and 90s hits on blast all day long. \n\n\nBooks\, stationery\, and all the stuff your parents said “maybe next time” to.\n\n\nTag your favorite reading buddy and start saving those pennies!
URL:https://thebookcellarva.com/events/adult-book-fair/
LOCATION:The Book Cellar\, 112 Court St\, Abingdon\, VA\, 24210\, United States
CATEGORIES:Adult Book Fair
ATTACH;FMTTYPE=image/jpeg:https://thebookcellarva.com/wp-content/uploads/2026/02/Spring-ADF-2026.jpg
END:VEVENT
BEGIN:VEVENT
DTSTART;TZID=America/New_York:20251004T180000
DTEND;TZID=America/New_York:20251004T210000
DTSTAMP:20260424T044032
CREATED:20250807T160307Z
LAST-MODIFIED:20250807T160307Z
UID:1351-1759600800-1759611600@thebookcellarva.com
SUMMARY:Spooky Book Fair
DESCRIPTION:Adult Book Fair has been a big hit\, so we’re changing things up a bit for a Spooky Book Fair! Come out for a spooky evening of horror authors\, spooky themed literaty finds\, horror books\, themed drinks and more!
URL:https://thebookcellarva.com/events/spooky-book-fair/
LOCATION:The Book Cellar\, 112 Court St\, Abingdon\, VA\, 24210\, United States
CATEGORIES:Adult Book Fair,Special Event
ATTACH;FMTTYPE=image/jpeg:https://thebookcellarva.com/wp-content/uploads/2025/08/518368760_673246962418183_4481664794480543554_n.jpg
END:VEVENT
BEGIN:VEVENT
DTSTART;TZID=America/New_York:20250412T180000
DTEND;TZID=America/New_York:20250412T210000
DTSTAMP:20260424T044032
CREATED:20250131T192125Z
LAST-MODIFIED:20250131T192125Z
UID:1272-1744480800-1744491600@thebookcellarva.com
SUMMARY:Spring Adult Book Fair
DESCRIPTION:Come out and enjoy the nostalgia of the book fair you remember when you were a kid! After the success of last year’s book fair\, we’ve decided to bring it back!\n\nExpect to find all those cool\, memorable things from the book fair\, like pens\, pencils\, erasers\, posters\, gadgets\, and BOOKS!\n\nWhat makes this an Adult Book Fair? Adult beverages\, of course! But more than that\, this is a chance to hop in the time machine and relieve a beloved moment.\nThis time around\, expect even more cool stuff\, fantastic music\, and a few local author special guests!
URL:https://thebookcellarva.com/events/spring-adult-book-fair/
LOCATION:The Book Cellar\, 112 Court St\, Abingdon\, VA\, 24210\, United States
CATEGORIES:Adult Book Fair,Special Event
ATTACH;FMTTYPE=image/jpeg:https://thebookcellarva.com/wp-content/uploads/2025/01/2.jpg
END:VEVENT
END:VCALENDAR